BEGIN:VCALENDAR
VERSION:2.0
PRODID:-//Kohtla-Järve linn - ECPv6.15.20//NONSGML v1.0//EN
CALSCALE:GREGORIAN
METHOD:PUBLISH
X-ORIGINAL-URL:https://kohtla-jarve.ee
X-WR-CALDESC:Events for Kohtla-Järve linn
REFRESH-INTERVAL;VALUE=DURATION:PT1H
X-Robots-Tag:noindex
X-PUBLISHED-TTL:PT1H
BEGIN:VTIMEZONE
TZID:Europe/Tallinn
BEGIN:DAYLIGHT
TZOFFSETFROM:+0200
TZOFFSETTO:+0300
TZNAME:EEST
DTSTART:20250330T010000
END:DAYLIGHT
BEGIN:STANDARD
TZOFFSETFROM:+0300
TZOFFSETTO:+0200
TZNAME:EET
DTSTART:20251026T010000
END:STANDARD
BEGIN:DAYLIGHT
TZOFFSETFROM:+0200
TZOFFSETTO:+0300
TZNAME:EEST
DTSTART:20260329T010000
END:DAYLIGHT
BEGIN:STANDARD
TZOFFSETFROM:+0300
TZOFFSETTO:+0200
TZNAME:EET
DTSTART:20261025T010000
END:STANDARD
BEGIN:DAYLIGHT
TZOFFSETFROM:+0200
TZOFFSETTO:+0300
TZNAME:EEST
DTSTART:20270328T010000
END:DAYLIGHT
BEGIN:STANDARD
TZOFFSETFROM:+0300
TZOFFSETTO:+0200
TZNAME:EET
DTSTART:20271031T010000
END:STANDARD
END:VTIMEZONE
BEGIN:VEVENT
DTSTART;TZID=Europe/Tallinn:20260422T160000
DTEND;TZID=Europe/Tallinn:20260422T180000
DTSTAMP:20260422T232338
CREATED:20260326T145719Z
LAST-MODIFIED:20260326T145719Z
UID:7264-1776873600-1776880800@kohtla-jarve.ee
SUMMARY:Siuru ja Noor-Eesti
DESCRIPTION:22.04.26 kell 16 \nK-Järve lugemissaalis (Tuuslari 19) \n“Siuru ja Noor-Eesti” \nKülas on folklorist\, kirjanik ja ühiskonnategelane Loone Ots
URL:https://kohtla-jarve.ee/sundmus/siuru-ja-noor-eesti/
LOCATION:Kohtla-Järve Keskraamatukogu Lugemissaal\, Tuuslari 19\, Kohtla-Järve\, Ida-Virumaa\, 30322\, Estonia
CATEGORIES:ajalugu,sündmus
ATTACH;FMTTYPE=image/png:https://kohtla-jarve.ee/wp-content/uploads/2026/03/Kirjanik-ja-aeg-.9.png
END:VEVENT
END:VCALENDAR